BEGIN:VCALENDAR
METHOD:PUBLISH
VERSION:2.0
CALSCALE:GREGORIAN
PRODID:-//NONSGML WPForms//NONSGML Sugar Calendar Feeds v3.11.0//EN
X-WR-CALNAME:Dive Into Journaling
X-WR-CALDESC:Colorado Cancer Coalition
X-WR-TIMEZONE:America/Denver
BEGIN:VTIMEZONE
TZID:America/Denver
BEGIN:STANDARD
TZOFFSETFROM:-0600
TZOFFSETTO:-0700
DTSTART:20251102T080000
TZNAME:MST
END:STANDARD
BEGIN:DAYLIGHT
TZOFFSETFROM:-0700
TZOFFSETTO:-0600
DTSTART:20260308T090000
TZNAME:MDT
END:DAYLIGHT
END:VTIMEZONE
BEGIN:VTIMEZONE
TZID:America/Denver
BEGIN:STANDARD
TZOFFSETFROM:-0600
TZOFFSETTO:-0700
DTSTART:20251102T080000
TZNAME:MST
END:STANDARD
BEGIN:DAYLIGHT
TZOFFSETFROM:-0700
TZOFFSETTO:-0600
DTSTART:20260308T090000
TZNAME:MDT
END:DAYLIGHT
END:VTIMEZONE
BEGIN:VEVENT
SUMMARY:Dive Into Journaling
DESCRIPTION:Join CommonSpirit for a presentation and discussion on the i
 mportance of journaling. There are many therapeutic benefits to journali
 ng\, including decreased anxiety and increased happiness. They will also
  take time to practice these journaling prompts and skills.\n\n&nbsp\;\n
 \nRegister - https://reg.abcsignup.com/s_reg/reg_registration_maintenanc
 e.aspx
URL;VALUE=URI:https://coloradocancercoalition.org/events/dive-into-journ
 aling/
UID:urn:uuid:9549c8dd-7a2e-480c-9014-9030b4d841da
STATUS:CONFIRMED
ORGANIZER:
DTSTAMP:20260422T084057Z
DTSTART;TZID=America/Denver:20260312T150000
DTEND;TZID=America/Denver:20260312T160000
END:VEVENT
END:VCALENDAR