BEGIN:VCALENDAR
METHOD:PUBLISH
VERSION:2.0
CALSCALE:GREGORIAN
PRODID:-//NONSGML WPForms//NONSGML Sugar Calendar Feeds v3.11.0//EN
X-WR-CALNAME:2026 Hearts & Hope Gala - Epic Experience
X-WR-CALDESC:Colorado Cancer Coalition
X-WR-TIMEZONE:America/Denver
BEGIN:VTIMEZONE
TZID:America/Denver
BEGIN:STANDARD
TZOFFSETFROM:-0600
TZOFFSETTO:-0700
DTSTART:20251102T080000
TZNAME:MST
END:STANDARD
END:VTIMEZONE
BEGIN:VTIMEZONE
TZID:America/Denver
BEGIN:STANDARD
TZOFFSETFROM:-0600
TZOFFSETTO:-0700
DTSTART:20251102T080000
TZNAME:MST
END:STANDARD
END:VTIMEZONE
BEGIN:VEVENT
SUMMARY:2026 Hearts & Hope Gala - Epic Experience
DESCRIPTION:Join Epic Experience as they celebrate 14 years of empowerin
 g adult cancer survivors and thrivers to live beyond cancer! The Hearts 
 &amp\; Hope Gala raises essential funds to support Epic Experience’s l
 ife-changing programs\, including adventure camps\, Trail Day meetups\, 
 and virtual connections for adults diagnosed with cancer.\nWe’re espec
 ially proud to share that Carlin Callaway\, Chair of the Colorado Cancer
  Coalition’s Survivorship &amp\; Palliative Care Task Force\, will be 
 honored with this year’s Epic Hero Award. Carlin’s leadership\, comp
 assion\, and commitment to improving cancer care across Colorado inspire
  us all - and we couldn’t be more excited to see her recognized for th
 e incredible impact she makes every day.
URL;VALUE=URI:https://coloradocancercoalition.org/events/2026-hearts-hop
 e-gala-epic-experience/
UID:urn:uuid:fc837abe-5f02-4012-87ae-08862fe032cb
STATUS:CONFIRMED
ORGANIZER:
DTSTAMP:20260421T160615Z
DTSTART;TZID=America/Denver:20260228T173000
DTEND;TZID=America/Denver:20260228T203000
END:VEVENT
END:VCALENDAR